BEGIN:VCALENDAR
VERSION:2.0
PRODID:-//AIGCC - ECPv5.12.2//NONSGML v1.0//EN
CALSCALE:GREGORIAN
METHOD:PUBLISH
X-WR-CALNAME:AIGCC
X-ORIGINAL-URL:https://www.aigcc.net
X-WR-CALDESC:Events for AIGCC
REFRESH-INTERVAL;VALUE=DURATION:PT1H
X-Robots-Tag:noindex
X-PUBLISHED-TTL:PT1H
BEGIN:VTIMEZONE
TZID:UTC
BEGIN:STANDARD
TZOFFSETFROM:+0000
TZOFFSETTO:+0000
TZNAME:UTC
DTSTART:20200101T000000
END:STANDARD
TZID:Australia/Sydney
BEGIN:STANDARD
TZOFFSETFROM:+1100
TZOFFSETTO:+1000
TZNAME:AEST
DTSTART:20200404T160000
END:STANDARD
BEGIN:DAYLIGHT
TZOFFSETFROM:+1000
TZOFFSETTO:+1100
TZNAME:AEDT
DTSTART:20201003T160000
END:DAYLIGHT
TZID:Asia/Shanghai
BEGIN:STANDARD
TZOFFSETFROM:+0800
TZOFFSETTO:+0800
TZNAME:CST
DTSTART:20200101T000000
END:STANDARD
END:VTIMEZONE
BEGIN:VEVENT
DTSTART;TZID=UTC:20200915T080000
DTEND;TZID=UTC:20200916T170000
DTSTAMP:20220425T095828
CREATED:20200723T223213Z
LAST-MODIFIED:20200723T223213Z
UID:1400-1600156800-1600275600@www.aigcc.net
SUMMARY:External: Responsible Investor Conference – Tokyo
DESCRIPTION:New dates announced: 15th-16th September\nThe new agenda for RI Tokyo 2020 will be focused on ESG from a Japanese perspective and how this perspective feeds into international discussions. The PRI remains our partner for this conference\, but given that PRI in Person is taking place three weeks after the RI Tokyo conference\, we believe our role is to provide a platform to deepen the discussion about what Japan could bring into the global development of sustainable finance.\n\nPlease see agenda page for more information.
URL:https://www.aigcc.net/event/external-responsible-investor-conference-tokyo/
CATEGORIES:All Events
ATTACH;FMTTYPE=image/png:https://www.aigcc.net/wp-content/uploads/2020/07/shot_200504_160834.png
END:VEVENT
BEGIN:VEVENT
DTSTART;TZID=Australia/Sydney:20200911T090000
DTEND;TZID=Australia/Sydney:20200911T110000
DTSTAMP:20220425T095828
CREATED:20200826T192711Z
LAST-MODIFIED:20200826T192711Z
UID:3637-1599814800-1599822000@www.aigcc.net
SUMMARY:IGCC\, AIGCC\, GIF webinar: Mobilising Private Investment in Resilient Infrastructure
DESCRIPTION:As we look toward a post-COVID-19 era\, investing in sustainable infrastructure is crucial for reigniting global growth\, attaining the Sustainable Development Goals (SDGs)\, and reducing climate risk. However\, it is generally recognised that additional investments in the billions of dollars per year are needed to make infrastructure resilient to disasters and climate change. \nTo better understand these issues\, the Investor Group on Climate Change (IGCC)\, the Asia Investor Group on Climate Change (AIGCC) and the Global Infrastructure Facility (GIF) are pleased to invite you to a joint webinar that considers mechanisms crucial for enabling public and private participation and investment in adaptation and resilience practices across infrastructure sectors. \nThe webinar aims to explore adaptation and resilience approaches mutually beneficial for government\, private climate action and infrastructure finance representatives and stakeholders as well as provide insights on how to implement climate-resilient approaches that enable and attract infrastructure finance. \nThis is a unique opportunity for open dialogue among IGCC\, AIGCC\, and GIF members\, as well as invited developed country\, emerging markets and developing economy government participants\, along with multilateral development banks active in the Asia-Pacific region. The webinar will explore emerging practices\, good examples of government action and how private investment in adaptation and resilience can be better supported and accelerated. \nKey areas of focus: \n\n\nMulti-level integrated planning\nSystems-based approaches\nClimate data collection and accessibility\nThe business case for private participation\nValuing resilience\n\nRegister here.
URL:https://www.aigcc.net/event/igcc-aigcc-gif-webinar-mobilising-private-investment-in-resilient-infrastructure/
CATEGORIES:All Events
END:VEVENT
BEGIN:VEVENT
DTSTART;TZID=Australia/Sydney:20200910T160000
DTEND;TZID=Australia/Sydney:20200910T170000
DTSTAMP:20220425T095828
CREATED:20200825T185932Z
LAST-MODIFIED:20200825T185932Z
UID:3627-1599753600-1599757200@www.aigcc.net
SUMMARY:Presenting the draft Net Zero Investment Framework for Consultation | Via Zoom VC
DESCRIPTION:The Asia Investor Group on Climate Change (AIGCC) and the Investor Group on Climate Change (IGCC) are pleased to invite you to join a special consultation and briefing session from the Institutional Investors Group on Climate Change (IIGCC) on the draft Net Zero Investment Framework\, produced by the Paris Aligned Investment Initiative (PAII). \nEarlier this month\, the PAII released The Net Zero Investment Framework\, which provides a practical blueprint for investors to maximise the contribution they make in tackling climate change and achieving net-zero emissions globally by 2050. The framework has been developed by over 70 investors with more than $16 trillion in AUM and is now open for wider consultation. \nAIGCC and IGCC are hosting this session to provide investors across the Asia-Pacfic with an opportunity to learn more about the draft framework and opportunities to provide input. Please join us to hear from Stephanie Pfeiffer\, Chief Executive of IIGCC and Daisy Streatfeild\, Investor Practices Programme Director on the IIGCC Net Zero Investment Framework for Consultation. \nThe development of tools and frameworks for achieving a Net Zero aligned investment portfolio also supports the collective work of regional and international partners through The Investor Agenda. The Investor Agenda is currently working to develop a shared framework for Investor Climate Action Plan supported by additional guidance for investors on how investors can strengthen their response to climate change in line with global industry practice. \nRegister here\n 
URL:https://www.aigcc.net/event/presenting-the-draft-net-zero-investment-framework-for-consultation-via-zoom-vc/
CATEGORIES:All Events
END:VEVENT
BEGIN:VEVENT
DTSTART;TZID=UTC:20200630T143000
DTEND;TZID=UTC:20200630T180000
DTSTAMP:20220425T095828
CREATED:20200622T164954Z
LAST-MODIFIED:20200622T164954Z
UID:3517-1593527400-1593540000@www.aigcc.net
SUMMARY:External: 2020 China SIF Summer Summit - ESG Investing in the Context of COVID-19 Webinar | 30 June
DESCRIPTION:Off the back of COVID-19\,  there is a greater need for a more resilient economy and longer-term solutions for social and environmental issues. The China SIF summer webinar will focus on how to proceed with a more sustainable recovery from responsible investment perspectives. \nFind out more
URL:https://www.aigcc.net/event/external-2020-china-sif-summer-summit-esg-investing-in-the-context-of-covid-19-webinar-30-june/
CATEGORIES:All Events
END:VEVENT
BEGIN:VEVENT
DTSTART;TZID=Asia/Shanghai:20200624T160000
DTEND;TZID=Asia/Shanghai:20200624T171500
DTSTAMP:20220425T095828
CREATED:20200617T174650Z
LAST-MODIFIED:20200617T174650Z
UID:3508-1593014400-1593018900@www.aigcc.net
SUMMARY:External: Ecosperity Conversations-Sustainable Districts for a Sustainable City | Wednesday 24 June
DESCRIPTION:Adapting to disruptions caused by climate\, social and technological change requires a fresh approach to urban planning and urban innovation. There are many opportunities to improve the liveability\, sustainability and resiliency of our cities through the way we plan our urban environment\, and many strategies have been studied and deployed to optimise urban systems and solutions. However\, implementing these solutions within existing townships and sites can be challenging for numerous reasons. \nJoin the webinar on 24 June 2020 (Wednesday)\, at 4pm (GMT+8) to learn and discuss how district-level projects can be used as a testbed for solutions before scaling up. \nRegister here
URL:https://www.aigcc.net/event/ecosperity-conversations-sustainable-districts-for-a-sustainable-city-wednesday-24-june/
CATEGORIES:All Events
END:VEVENT
BEGIN:VEVENT
DTSTART;TZID=Australia/Sydney:20200526T170000
DTEND;TZID=Australia/Sydney:20200526T180000
DTSTAMP:20220425T095828
CREATED:20200504T163316Z
LAST-MODIFIED:20200504T163316Z
UID:3338-1590512400-1590516000@www.aigcc.net
SUMMARY:AIGCC Member Meeting
DESCRIPTION:For the May AIGCC Member Meeting\, we will be joined by speakers from Japan’s regulatory institutions to discuss the latest developments on TCFD scenario risk guidance\, stewardship code ESG standards and transition finance principles. \nIf you are not a member\, but would like to join as a guest\, please get in touch. 
URL:https://www.aigcc.net/event/aigcc-member-meeting/
CATEGORIES:All Events
ATTACH;FMTTYPE=:
END:VEVENT
END:VCALENDAR