BEGIN:VCALENDAR
VERSION:2.0
PRODID:-//AIGCC - ECPv5.12.2//NONSGML v1.0//EN
CALSCALE:GREGORIAN
METHOD:PUBLISH
X-WR-CALNAME:AIGCC
X-ORIGINAL-URL:https://www.aigcc.net
X-WR-CALDESC:Events for AIGCC
REFRESH-INTERVAL;VALUE=DURATION:PT1H
X-Robots-Tag:noindex
X-PUBLISHED-TTL:PT1H
BEGIN:VTIMEZONE
TZID:Asia/Hong_Kong
BEGIN:STANDARD
TZOFFSETFROM:+0800
TZOFFSETTO:+0800
TZNAME:HKT
DTSTART:20220101T000000
END:STANDARD
TZID:Australia/Sydney
BEGIN:STANDARD
TZOFFSETFROM:+1100
TZOFFSETTO:+1000
TZNAME:AEST
DTSTART:20220402T160000
END:STANDARD
BEGIN:DAYLIGHT
TZOFFSETFROM:+1000
TZOFFSETTO:+1100
TZNAME:AEDT
DTSTART:20221001T160000
END:DAYLIGHT
END:VTIMEZONE
BEGIN:VEVENT
DTSTART;TZID=Asia/Hong_Kong:20220421T083000
DTEND;TZID=Asia/Hong_Kong:20220421T100000
DTSTAMP:20220425T082422
CREATED:20220124T110934Z
LAST-MODIFIED:20220331T033706Z
UID:5323-1650529800-1650535200@www.aigcc.net
SUMMARY:AIGCC April Member Meeting
DESCRIPTION:AIGCC hosts monthly meetings to provide an update on key projects and initiatives and provides a forum for members to share updates on their own work in a trusted peer-to peer forum. We also invite guest speakers on topics of interest to investors. \nThe meetings are open to all AIGCC members and other guests* are welcome to attend. \n  \nContact us at info@aigcc.net if you have any questions or would like to join this meeting.
URL:https://www.aigcc.net/event/aigcc-april-member-meeting/
CATEGORIES:Members
END:VEVENT
BEGIN:VEVENT
DTSTART;TZID=Asia/Hong_Kong:20220519T160000
DTEND;TZID=Asia/Hong_Kong:20220519T173000
DTSTAMP:20220425T082422
CREATED:20220124T111227Z
LAST-MODIFIED:20220331T043704Z
UID:5327-1652976000-1652981400@www.aigcc.net
SUMMARY:AIGCC May Member Meeting
DESCRIPTION:AIGCC hosts monthly meetings to provide an update on key projects and initiatives and provides a forum for members to share updates on their own work in a trusted peer-to peer forum. We also invite guest speakers on topics of interest to investors. \nThe meetings are open to all AIGCC members and other guests* are welcome to attend. \n  \nContact us at info@aigcc.net if you have any questions or would like to join this meeting.
URL:https://www.aigcc.net/event/aigcc-may-member-meeting/
CATEGORIES:Members
END:VEVENT
BEGIN:VEVENT
DTSTART;TZID=Asia/Hong_Kong:20220524T090000
DTEND;TZID=Asia/Hong_Kong:20220524T103000
DTSTAMP:20220425T082422
CREATED:20220124T111053Z
LAST-MODIFIED:20220407T042410Z
UID:5325-1653382800-1653388200@www.aigcc.net
SUMMARY:Paris Aligned Investment Working Group
DESCRIPTION:The Paris Aligned Investment Working Group intends to focus on the development of emerging investor solutions for facilitating the transition to a net zero emissions economy in Asia\, and to track global progress.  \nMEMBERS ONLY. \n  \nPlease contact Serena Li at serena.li@aigcc.net if you would like to join the group.
URL:https://www.aigcc.net/event/paris-aligned-investment-working-group/
CATEGORIES:Members
END:VEVENT
BEGIN:VEVENT
DTSTART;TZID=Asia/Hong_Kong:20220531T090000
DTEND;TZID=Asia/Hong_Kong:20220531T123000
DTSTAMP:20220425T082422
CREATED:20211221T055956Z
LAST-MODIFIED:20220401T070731Z
UID:5215-1653987600-1654000200@www.aigcc.net
SUMMARY:AIGCC Investor Practice Masterclass Third Session: Corporate Engagement and Policy Advocacy
DESCRIPTION:Date and Time: Tuesday\, 31st May 2022\, 9am – 12:30pm HKT/SGT\n(*this is a revised date)  \nThird session: Corporate Engagement and Policy Advocacy \nBuilding on the first and second masterclasses\, this session explores investor best practice in Corporate Engagement and Policy Advocacy through the ICAPs framework. \nThis session will help investors understand their role in directly influencing corporate practices and performances on climate change\, as well as advocating for policy frameworks that unlock investment opportunities to ensure a just transition. \nJoin us to: \n\nHear from Asian practitioners on their current engagement and policy advocacy work\nLearn about best practice and practical tools\n\nAll sessions will be conducted via Zoom. For AIGCC members ONLY. \n 
URL:https://www.aigcc.net/event/aigcc-investor-practice-masterclass-third-session-corporate-engagement/
CATEGORIES:Featured,Members
END:VEVENT
BEGIN:VEVENT
DTSTART;TZID=Asia/Hong_Kong:20220602T150000
DTEND;TZID=Asia/Hong_Kong:20220602T163000
DTSTAMP:20220425T082422
CREATED:20220124T111732Z
LAST-MODIFIED:20220331T064536Z
UID:5331-1654182000-1654187400@www.aigcc.net
SUMMARY:Climate Action 100+ Asia 2022 Q2 Call [For Climate Action 100+ signatories only]
DESCRIPTION:The Climate Action 100+ Asia Engagement Working Group convenes quarterly update calls to provide initiative-wide updates and engagement case studies for signatories engaging in Asia focus companies. \nThe call is for Climate Action 100+ signatories only. \n  \nPlease contact Cosmo Hui at cosmo.hui@aigcc.net should you have any enquiries.
URL:https://www.aigcc.net/event/climate-action-100-asia-2022-q2-call-for-climate-action-100-signatories-only/
CATEGORIES:Members
END:VEVENT
BEGIN:VEVENT
DTSTART;TZID=Asia/Hong_Kong:20220607T160000
DTEND;TZID=Asia/Hong_Kong:20220607T173000
DTSTAMP:20220425T082422
CREATED:20220124T112207Z
LAST-MODIFIED:20220408T023629Z
UID:5333-1654617600-1654623000@www.aigcc.net
SUMMARY:Engagement & Policy Working Group Meeting
DESCRIPTION:The Engagement & Policy Working Group is intended to focus on corporate engagement and policy advocacy.  \nMEMBERS ONLY. \n  \nPlease contact Serena Li at serena.li@aigcc.net if you would like to join the group.
URL:https://www.aigcc.net/event/engagement-policy-working-group-meeting/
CATEGORIES:Members
END:VEVENT
BEGIN:VEVENT
DTSTART;VALUE=DATE:20220616
DTEND;VALUE=DATE:20220618
DTSTAMP:20220425T082422
CREATED:20220124T105729Z
LAST-MODIFIED:20220329T064001Z
UID:5311-1655337600-1655510399@www.aigcc.net
SUMMARY:IGCC 2022 Climate Change Investment and Finance Summit
DESCRIPTION:Investing in the Transition to Net Zero \nInvestors are now playing a critical role in driving climate action. Market practice is evolving rapidly. Delivering on the promise of net zero by 2050 is key\, as focus turns to driving implementation and real-world outcomes by 2030 through shareholder engagement\, investment\, risk management and disclosure. \nThe climate policy landscape has shifted dramatically in recent years\, with the ambitious climate goals announced by the Biden Administration earlier in 2021\, enabling policies from China\, Japan and South Korea\, along with ratified commitments to net zero and outcomes from the COP26 Presidency of the UK\, expectations for delivering on the promise of the Paris Agreement to limit global warming to 1.5ºC are intensifying. \nFor Australia\, New Zealand and the Asia Pacific\, the financial risks for business and investors are acute and government and financial regulators will continue to re-shape investor practice. \nAgainst this backdrop of heightened urgency\, a changed policy landscape and more investor action on climate\, IGCC will bring together leading experts\, corporate leaders and market practitioners to unpack and discuss the latest and next generation of investor practice on climate change. \n*In view of the continuing public health uncertainty\, we have postponed the IGCC & AIGCC Summit to Thursday 16 & Friday 17 June. Already-purchased online and in-person tickets remain valid. \nREGISTER HERE \nIf you have any questions or concerns please get in touch via events@igcc.org.au and keep on eye on our website for further details. \nThe Summit is a hybrid event with ticket opens available for both in-person at the Hilton Hotel Sydney and online. \nPLEASE NOTE: AIGCC Members receive one (1) complimentary ticket each.\nTo redeem your ticket please email events@igcc.org.au
URL:https://www.aigcc.net/event/igcc-2022-climate-change-investment-and-finance-summit/
CATEGORIES:Featured,Members
END:VEVENT
BEGIN:VEVENT
DTSTART;TZID=Asia/Hong_Kong:20220616T083000
DTEND;TZID=Asia/Hong_Kong:20220616T100000
DTSTAMP:20220425T082422
CREATED:20220124T112859Z
LAST-MODIFIED:20220408T023737Z
UID:5335-1655368200-1655373600@www.aigcc.net
SUMMARY:AIGCC June Member Meeting
DESCRIPTION:AIGCC hosts monthly meetings to provide an update on key projects and initiatives and provides a forum for members to share updates on their own work in a trusted peer-to peer forum. We also invite guest speakers on topics of interest to investors. \nThe meetings are open to all AIGCC members and other guests* are welcome to attend. \n  \nContact us at info@aigcc.net if you have any questions or would like to join this meeting.
URL:https://www.aigcc.net/event/aigcc-june-member-meeting/
CATEGORIES:Members
END:VEVENT
BEGIN:VEVENT
DTSTART;TZID=Asia/Hong_Kong:20220706T090000
DTEND;TZID=Asia/Hong_Kong:20220706T103000
DTSTAMP:20220425T082422
CREATED:20220124T112956Z
LAST-MODIFIED:20220408T023921Z
UID:5337-1657098000-1657103400@www.aigcc.net
SUMMARY:Physical Risks and Resilience Working Group Meeting
DESCRIPTION:The Physical Risk and Resilience Working Group is intended to focus on the development of investor solutions to enable investors to integrate physical risk and resilience into portfolio management and drive more investment into adaptation solutions.  \nMEMBERS ONLY. \n  \nPlease contact Serena Li at serena.li@aigcc.net if you would like to join the group.
URL:https://www.aigcc.net/event/physical-risks-and-resilience-working-group-meeting-2/
CATEGORIES:Members
END:VEVENT
BEGIN:VEVENT
DTSTART;TZID=Asia/Hong_Kong:20220719T160000
DTEND;TZID=Asia/Hong_Kong:20220719T173000
DTSTAMP:20220425T082422
CREATED:20220124T113054Z
LAST-MODIFIED:20220408T024027Z
UID:5339-1658246400-1658251800@www.aigcc.net
SUMMARY:AIGCC July Member Meeting
DESCRIPTION:AIGCC hosts monthly meetings to provide an update on key projects and initiatives and provides a forum for members to share updates on their own work in a trusted peer-to peer forum. We also invite guest speakers on topics of interest to investors. \nThe meetings are open to all AIGCC members and other guests* are welcome to attend. \n  \nContact us at info@aigcc.net if you have any questions or would like to join this meeting.
URL:https://www.aigcc.net/event/aigcc-july-member-meeting/
CATEGORIES:Members
END:VEVENT
BEGIN:VEVENT
DTSTART;TZID=Asia/Hong_Kong:20220804T090000
DTEND;TZID=Asia/Hong_Kong:20220804T103000
DTSTAMP:20220425T082422
CREATED:20220124T113258Z
LAST-MODIFIED:20220408T025843Z
UID:5341-1659603600-1659609000@www.aigcc.net
SUMMARY:Paris Aligned Investment Working Group Meeting
DESCRIPTION:The Paris Aligned Investment Working Group intends to focus on the development of emerging investor solutions for facilitating the transition to a net zero emissions economy in Asia\, and to track global progress.  \nMEMBERS ONLY. \n  \nPlease contact Serena Li at serena.li@aigcc.net if you would like to join the group.
URL:https://www.aigcc.net/event/paris-aligned-investment-working-group-meeting-2/
CATEGORIES:Members
END:VEVENT
BEGIN:VEVENT
DTSTART;TZID=Asia/Hong_Kong:20220818T083000
DTEND;TZID=Asia/Hong_Kong:20220818T100000
DTSTAMP:20220425T082422
CREATED:20220124T113413Z
LAST-MODIFIED:20220408T024225Z
UID:5343-1660811400-1660816800@www.aigcc.net
SUMMARY:AIGCC August Member Meeting
DESCRIPTION:AIGCC hosts monthly meetings to provide an update on key projects and initiatives and provides a forum for members to share updates on their own work in a trusted peer-to peer forum. We also invite guest speakers on topics of interest to investors. \nThe meetings are open to all AIGCC members and other guests* are welcome to attend. \n  \nContact us at info@aigcc.net if you have any questions or would like to join this meeting.
URL:https://www.aigcc.net/event/aigcc-august-member-meeting/
CATEGORIES:Members
END:VEVENT
BEGIN:VEVENT
DTSTART;TZID=Asia/Hong_Kong:20220901T150000
DTEND;TZID=Asia/Hong_Kong:20220901T163000
DTSTAMP:20220425T082422
CREATED:20220124T113526Z
LAST-MODIFIED:20220408T025208Z
UID:5345-1662044400-1662049800@www.aigcc.net
SUMMARY:Climate Action 100+ Asia 2022 Q3 Call [For Climate Action 100+ signatories only]
DESCRIPTION:The Climate Action 100+ Asia Engagement Working Group convenes quarterly update calls to provide initiative-wide updates and engagement case studies for signatories engaging in Asia focus companies. \nThe call is for Climate Action 100+ signatories only. \n  \nPlease contact Cosmo Hui at cosmo.hui@aigcc.net should you have any enquiries.
URL:https://www.aigcc.net/event/climate-action-100-asia-2022-q3-call-for-climate-action-100-signatories-only/
CATEGORIES:Members
END:VEVENT
BEGIN:VEVENT
DTSTART;TZID=Asia/Hong_Kong:20220906T160000
DTEND;TZID=Asia/Hong_Kong:20220906T173000
DTSTAMP:20220425T082422
CREATED:20220124T113608Z
LAST-MODIFIED:20220408T025324Z
UID:5347-1662480000-1662485400@www.aigcc.net
SUMMARY:Engagement & Policy Working Group Meeting
DESCRIPTION:The Engagement & Policy Working Group is intended to focus on corporate engagement and policy advocacy.  \nMEMBERS ONLY. \n  \nPlease contact Serena Li at serena.li@aigcc.net if you would like to join the group.
URL:https://www.aigcc.net/event/engagement-policy-working-group-meeting-2/
CATEGORIES:Members
END:VEVENT
BEGIN:VEVENT
DTSTART;TZID=Asia/Hong_Kong:20220920T160000
DTEND;TZID=Asia/Hong_Kong:20220920T173000
DTSTAMP:20220425T082422
CREATED:20220124T113734Z
LAST-MODIFIED:20220408T025437Z
UID:5349-1663689600-1663695000@www.aigcc.net
SUMMARY:AIGCC September Member Meeting
DESCRIPTION:AIGCC hosts monthly meetings to provide an update on key projects and initiatives and provides a forum for members to share updates on their own work in a trusted peer-to peer forum. We also invite guest speakers on topics of interest to investors. \nThe meetings are open to all AIGCC members and other guests* are welcome to attend. \n  \nContact us at info@aigcc.net if you have any questions or would like to join this meeting.
URL:https://www.aigcc.net/event/aigcc-september-member-meeting/
CATEGORIES:Members
END:VEVENT
BEGIN:VEVENT
DTSTART;TZID=Asia/Hong_Kong:20221005T090000
DTEND;TZID=Asia/Hong_Kong:20221005T103000
DTSTAMP:20220425T082422
CREATED:20220124T113915Z
LAST-MODIFIED:20220408T025551Z
UID:5351-1664960400-1664965800@www.aigcc.net
SUMMARY:Physical Risks and Resilience Working Group Meeting
DESCRIPTION:The Physical Risk and Resilience Working Group is intended to focus on the development of investor solutions to enable investors to integrate physical risk and resilience into portfolio management and drive more investment into adaptation solutions.  \nMEMBERS ONLY. \n  \nPlease contact Serena Li at serena.li@aigcc.net if you would like to join the group.
URL:https://www.aigcc.net/event/physical-risks-and-resilience-working-group-meeting-3/
CATEGORIES:Members
END:VEVENT
BEGIN:VEVENT
DTSTART;TZID=Asia/Hong_Kong:20221020T083000
DTEND;TZID=Asia/Hong_Kong:20221020T100000
DTSTAMP:20220425T082422
CREATED:20220124T114021Z
LAST-MODIFIED:20220408T025709Z
UID:5353-1666254600-1666260000@www.aigcc.net
SUMMARY:AIGCC October Member Meeting
DESCRIPTION:AIGCC hosts monthly meetings to provide an update on key projects and initiatives and provides a forum for members to share updates on their own work in a trusted peer-to peer forum. We also invite guest speakers on topics of interest to investors. \nThe meetings are open to all AIGCC members and other guests* are welcome to attend. \n  \nContact us at info@aigcc.net if you have any questions or would like to join this meeting.
URL:https://www.aigcc.net/event/aigcc-october-member-meeting/
CATEGORIES:Members
END:VEVENT
BEGIN:VEVENT
DTSTART;TZID=Asia/Hong_Kong:20221110T090000
DTEND;TZID=Asia/Hong_Kong:20221110T103000
DTSTAMP:20220425T082422
CREATED:20220124T114138Z
LAST-MODIFIED:20220408T025815Z
UID:5355-1668070800-1668076200@www.aigcc.net
SUMMARY:Paris Aligned Investment Working Group Meeting
DESCRIPTION:The Paris Aligned Investment Working Group intends to focus on the development of emerging investor solutions for facilitating the transition to a net zero emissions economy in Asia\, and to track global progress.  \nMEMBERS ONLY. \n  \nPlease contact Serena Li at serena.li@aigcc.net if you would like to join the group.
URL:https://www.aigcc.net/event/paris-aligned-investment-working-group-meeting-3/
CATEGORIES:Members
END:VEVENT
BEGIN:VEVENT
DTSTART;TZID=Asia/Hong_Kong:20221117T160000
DTEND;TZID=Asia/Hong_Kong:20221117T173000
DTSTAMP:20220425T082422
CREATED:20220124T114246Z
LAST-MODIFIED:20220408T030010Z
UID:5357-1668700800-1668706200@www.aigcc.net
SUMMARY:AIGCC November Member Meeting
DESCRIPTION:AIGCC hosts monthly meetings to provide an update on key projects and initiatives and provides a forum for members to share updates on their own work in a trusted peer-to peer forum. We also invite guest speakers on topics of interest to investors. \nThe meetings are open to all AIGCC members and other guests* are welcome to attend. \n  \nContact us at info@aigcc.net if you have any questions or would like to join this meeting.
URL:https://www.aigcc.net/event/aigcc-november-member-meeting/
CATEGORIES:Members
END:VEVENT
BEGIN:VEVENT
DTSTART;TZID=Asia/Hong_Kong:20221201T160000
DTEND;TZID=Asia/Hong_Kong:20221201T173000
DTSTAMP:20220425T082422
CREATED:20220124T114412Z
LAST-MODIFIED:20220408T052838Z
UID:5359-1669910400-1669915800@www.aigcc.net
SUMMARY:Climate Action 100+ Asia 2022 Q4 Call [For Climate Action 100+ signatories only]
DESCRIPTION:The Climate Action 100+ Asia Engagement Working Group convenes quarterly update calls to provide initiative-wide updates and engagement case studies for signatories engaging in Asia focus companies. \nThe call is for Climate Action 100+ signatories only. \n  \nPlease contact Cosmo Hui at cosmo.hui@aigcc.net should you have any enquiries.
URL:https://www.aigcc.net/event/climate-action-100-asia-2022-q4-call-for-climate-action-100-signatories-only/
CATEGORIES:Members
END:VEVENT
BEGIN:VEVENT
DTSTART;TZID=Asia/Hong_Kong:20221206T160000
DTEND;TZID=Asia/Hong_Kong:20221206T173000
DTSTAMP:20220425T082422
CREATED:20220124T114521Z
LAST-MODIFIED:20220408T052948Z
UID:5362-1670342400-1670347800@www.aigcc.net
SUMMARY:Engagement & Policy Working Group Meeting
DESCRIPTION:The Engagement & Policy Working Group is intended to focus on corporate engagement and policy advocacy.  \nMEMBERS ONLY. \n  \nPlease contact Serena Li at serena.li@aigcc.net if you would like to join the group.
URL:https://www.aigcc.net/event/engagement-policy-working-group-meeting-3/
CATEGORIES:Members
END:VEVENT
BEGIN:VEVENT
DTSTART;TZID=Asia/Hong_Kong:20221215T090000
DTEND;TZID=Asia/Hong_Kong:20221215T103000
DTSTAMP:20220425T082422
CREATED:20220124T114623Z
LAST-MODIFIED:20220408T053025Z
UID:5364-1671094800-1671100200@www.aigcc.net
SUMMARY:AIGCC December Member Meeting
DESCRIPTION:AIGCC hosts monthly meetings to provide an update on key projects and initiatives and provides a forum for members to share updates on their own work in a trusted peer-to peer forum. We also invite guest speakers on topics of interest to investors. \nThe meetings are open to all AIGCC members and other guests* are welcome to attend. \n  \nContact us at info@aigcc.net if you have any questions or would like to join this meeting.
URL:https://www.aigcc.net/event/aigcc-december-member-meeting/
CATEGORIES:Members
END:VEVENT
END:VCALENDAR