BEGIN:VCALENDAR
VERSION:2.0
PRODID:-//AIGCC - ECPv5.12.2//NONSGML v1.0//EN
CALSCALE:GREGORIAN
METHOD:PUBLISH
X-WR-CALNAME:AIGCC
X-ORIGINAL-URL:https://www.aigcc.net
X-WR-CALDESC:Events for AIGCC
REFRESH-INTERVAL;VALUE=DURATION:PT1H
X-Robots-Tag:noindex
X-PUBLISHED-TTL:PT1H
BEGIN:VTIMEZONE
TZID:Asia/Hong_Kong
BEGIN:STANDARD
TZOFFSETFROM:+0800
TZOFFSETTO:+0800
TZNAME:HKT
DTSTART:20220101T000000
END:STANDARD
TZID:Australia/Sydney
BEGIN:STANDARD
TZOFFSETFROM:+1100
TZOFFSETTO:+1000
TZNAME:AEST
DTSTART:20220402T160000
END:STANDARD
BEGIN:DAYLIGHT
TZOFFSETFROM:+1000
TZOFFSETTO:+1100
TZNAME:AEDT
DTSTART:20221001T160000
END:DAYLIGHT
END:VTIMEZONE
BEGIN:VEVENT
DTSTART;TZID=Asia/Hong_Kong:20220411T160000
DTEND;TZID=Asia/Hong_Kong:20220411T173000
DTSTAMP:20220425T084802
CREATED:20220124T110450Z
LAST-MODIFIED:20220331T033018Z
UID:5319-1649692800-1649698200@www.aigcc.net
SUMMARY:Paris Aligned Investment Working Group Meeting
DESCRIPTION:The Paris Aligned Investment Working Group intends to focus on the development of emerging investor solutions for facilitating the transition to a net zero emissions economy in Asia\, and to track global progress.  \nMEMBERS ONLY. \n  \nPlease contact Serena Li at serena.li@aigcc.net if you would like to join the group.
URL:https://www.aigcc.net/event/paris-aligned-investment-working-group-meeting/
CATEGORIES:Members
END:VEVENT
BEGIN:VEVENT
DTSTART;TZID=Asia/Hong_Kong:20220406T090000
DTEND;TZID=Asia/Hong_Kong:20220406T103000
DTSTAMP:20220425T084802
CREATED:20220124T110739Z
LAST-MODIFIED:20220331T031804Z
UID:5321-1649235600-1649241000@www.aigcc.net
SUMMARY:Physical Risks and Resilience Working Group Meeting
DESCRIPTION:The Physical Risk and Resilience Working Group focuses on the development of investor solutions to enable investors to integrate physical risk and resilience into portfolio management and drive more investment into adaptation solutions.  \nMEMBERS ONLY. \nPlease contact Serena Li at serena.li@aigcc.net if you would like to join the group. \n 
URL:https://www.aigcc.net/event/physical-risks-and-resilience-working-group-meeting/
CATEGORIES:Members
END:VEVENT
BEGIN:VEVENT
DTSTART;TZID=Asia/Hong_Kong:20220328T090000
DTEND;TZID=Asia/Hong_Kong:20220328T123000
DTSTAMP:20220425T084802
CREATED:20211221T050921Z
LAST-MODIFIED:20220324T231854Z
UID:5207-1648458000-1648470600@www.aigcc.net
SUMMARY:AIGCC Investor Practice Masterclass Session 2: The practitioner’s perspective on preparing and analysing climate disclosure
DESCRIPTION:Second Session: The practitioner’s perspective on preparing and analysing climate disclosure  \nDate and Time: Monday\, 28th March 2022\, 9am – 12:30pm HKT/SGT\n(*this is a revised date)  \nWorkshop Overview  \nThis session takes a practical look at best practice climate disclosure\, drawing on both the TCFD and ICAPs frameworks. Building on AIGCC’s training module and first masterclass this session will explore:  \n\nOptions for developing a TCFD report that is fit for purpose \nCurrent state of play including examples of leading practice \nPractical steps for preparing your disclosure- including approaching scenario analysis and establishing metrics and targets \nFeatures of company TCFD disclosures for investor analysis\, what to look out for in your stewardship activities.\n\nParticipants will be provided with a workbook that includes all of the slides (including practical examples) presented during the session together with details of further resources and examples.  \n**Recommended to undertake AIGCC Climate Change Training module on TCFD or have existing knowledge of TCFD.  \nFacilitated by: Alison Ewings\, Head of Engagement\, Regnan  \nAll sessions will be conducted via Zoom. For AIGCC members ONLY. \n  \n 
URL:https://www.aigcc.net/event/aigcc-investor-practice-masterclass-second-session-tcfd-disclosures/
CATEGORIES:Featured,Members
END:VEVENT
BEGIN:VEVENT
DTSTART;TZID=Asia/Hong_Kong:20220317T163000
DTEND;TZID=Asia/Hong_Kong:20220317T180000
DTSTAMP:20220425T084802
CREATED:20220124T110327Z
LAST-MODIFIED:20220124T110327Z
UID:5317-1647534600-1647540000@www.aigcc.net
SUMMARY:AIGCC March Member Meeting
DESCRIPTION:
URL:https://www.aigcc.net/event/aigcc-march-member-meeting/
CATEGORIES:Members
END:VEVENT
BEGIN:VEVENT
DTSTART;TZID=Asia/Hong_Kong:20220311T093000
DTEND;TZID=Asia/Hong_Kong:20220311T103000
DTSTAMP:20220425T084802
CREATED:20211201T012809Z
LAST-MODIFIED:20220310T064109Z
UID:5121-1646991000-1646994600@www.aigcc.net
SUMMARY:AIGCC Report Launch Webinar – Pursuit of Ambitions: Net Zero Investment in Asia (3rd Edition) (March 11\, 9:30 am - 10:30 am HKT)
DESCRIPTION:Pursuit of Ambitions: Net Zero Investment in Asia (3rd edition) \nAIGCC Report Launch Webinar – Pursuit of Ambitions: Net Zero Investment in Asia (3rd Edition)  \nDate: Friday 11th March 2022\nTime: 9:30 am – 10:30 am HKT/SGT\, 10:30 am – 11:30 am JST/KST\, 12:30 pm – 1:30 pm AEDT \nThis is a public event\, and will be taking place on Zoom.\n\nBackground: \nThe Asia Investor Group on Climate Change (AIGCC) has undertaken an annual survey since 2019 to gather investor insights on how the market is defining and investing in climate-aligned opportunities\, and the barriers to investment they continue to face. This report outlines findings from the third survey\, undertaken in December last year. This report highlights investor insights into these and other related issues on climate investment in Asia. \nAs we look ahead towards COP27\, how are Asian investors thinking about the opportunities and the challenges of investing in net zero emissions? What tools are investors using and how are they allocating capital across different asset classes? And how will investors respond to ongoing policy uncertainty? \nThe webinar will feature a presentation summarising key findings from the report and a panel discussion about sustainable investment trends in Asia. \nSpeakers and Panellists: \nSession 1: AIGCC Report Presentation \nFirdaus Anuar\, Project Manager\, AIGCC  \nSession 2: Panel Discussion \nModerator: \nJane Ho\, Director of Investor Practice\, AIGCC   \nPanellists: \nGabriel Wilson-Otto\, Director\, Sustainable Investing\, Fidelity International\nWai Leng Leong\, Managing Director and Regional Head of Asia Pacific CDPQ Global\, CDPQ Singapore\nMichael Salvatico\, Head of Asia\, Pacific\, Middle East & Africa ESG Solutions\, S&P Global Sustainable1  \n\n\nPlease enter your details in the Registration box below.\n\nRead the media release here\nRead the report here\n\n\nFor any other queries please contact info@aigcc.net.
URL:https://www.aigcc.net/event/aigcc-report-launch-webinar-pursuit-of-ambitions-net-zero-investment-in-asia/
CATEGORIES:Members
ORGANIZER;CN="Asia%20Investor%20Group%20on%20Climate%20Change":MAILTO:info@aigcc.net
END:VEVENT
BEGIN:VEVENT
DTSTART;TZID=Asia/Hong_Kong:20220308T160000
DTEND;TZID=Asia/Hong_Kong:20220308T183000
DTSTAMP:20220425T084802
CREATED:20220124T110153Z
LAST-MODIFIED:20220302T010427Z
UID:5315-1646755200-1646764200@www.aigcc.net
SUMMARY:Engagement and Policy working Group Meeting
DESCRIPTION:
URL:https://www.aigcc.net/event/engagement-and-policy-working-group-meeting/
CATEGORIES:Members
END:VEVENT
BEGIN:VEVENT
DTSTART;TZID=Asia/Hong_Kong:20220303T160000
DTEND;TZID=Asia/Hong_Kong:20220303T173000
DTSTAMP:20220425T084802
CREATED:20220124T110037Z
LAST-MODIFIED:20220124T110037Z
UID:5313-1646323200-1646328600@www.aigcc.net
SUMMARY:Climate Action 100+ Asia 2022 Q1 Call [For Climate Action 100+ signatories only]
DESCRIPTION:
URL:https://www.aigcc.net/event/climate-action-100-asia-2022-q1-call-for-climate-action-100-signatories-only/
CATEGORIES:Members
END:VEVENT
BEGIN:VEVENT
DTSTART;TZID=Asia/Hong_Kong:20220224T090000
DTEND;TZID=Asia/Hong_Kong:20220224T103000
DTSTAMP:20220425T084802
CREATED:20220124T105508Z
LAST-MODIFIED:20220124T105842Z
UID:5309-1645693200-1645698600@www.aigcc.net
SUMMARY:AIGCC February Member Meeting
DESCRIPTION:
URL:https://www.aigcc.net/event/aigcc-february-member-meeting/
CATEGORIES:Members
END:VEVENT
BEGIN:VEVENT
DTSTART;VALUE=DATE:20220215
DTEND;VALUE=DATE:20220216
DTSTAMP:20220425T084802
CREATED:20220124T104519Z
LAST-MODIFIED:20220124T104519Z
UID:5307-1644883200-1644969599@www.aigcc.net
SUMMARY:Climate Action 100+ Global Review Webinar [For Climate Action 100+ signatories only]
DESCRIPTION:
URL:https://www.aigcc.net/event/climate-action-100-global-review-webinar-for-climate-action-100-signatories-only/
CATEGORIES:Members
END:VEVENT
BEGIN:VEVENT
DTSTART;TZID=Australia/Sydney:20220113T190000
DTEND;TZID=Australia/Sydney:20220113T200000
DTSTAMP:20220425T084802
CREATED:20220112T052931Z
LAST-MODIFIED:20220112T052931Z
UID:5293-1642100400-1642104000@www.aigcc.net
SUMMARY:Asian Utilities Engagement Program meeting
DESCRIPTION:Asia Investor Group on Climate Change is inviting you to a scheduled Zoom meeting. \nTopic: AUEP meeting – January 13th \nTime: Jan 13\, 2022 04:00 PM Hong Kong SAR \nJoin Zoom Meeting \nhttps://us02web.zoom.us/j/84022716221 \nMeeting ID: 840 2271 6221 \n 
URL:https://www.aigcc.net/event/asian-utilities-engagement-program-meeting/
LOCATION:Online
CATEGORIES:Members
END:VEVENT
END:VCALENDAR