BEGIN:VCALENDAR
VERSION:2.0
PRODID:-//AIGCC - ECPv5.12.2//NONSGML v1.0//EN
CALSCALE:GREGORIAN
METHOD:PUBLISH
X-WR-CALNAME:AIGCC
X-ORIGINAL-URL:https://www.aigcc.net
X-WR-CALDESC:Events for AIGCC
REFRESH-INTERVAL;VALUE=DURATION:PT1H
X-Robots-Tag:noindex
X-PUBLISHED-TTL:PT1H
BEGIN:VTIMEZONE
TZID:Asia/Hong_Kong
BEGIN:STANDARD
TZOFFSETFROM:+0800
TZOFFSETTO:+0800
TZNAME:HKT
DTSTART:20220101T000000
END:STANDARD
END:VTIMEZONE
BEGIN:VEVENT
DTSTART;TZID=Asia/Hong_Kong:20220308T160000
DTEND;TZID=Asia/Hong_Kong:20220308T183000
DTSTAMP:20220425T080056
CREATED:20220124T110153Z
LAST-MODIFIED:20220302T010427Z
UID:5315-1646755200-1646764200@www.aigcc.net
SUMMARY:Engagement and Policy working Group Meeting
DESCRIPTION:
URL:https://www.aigcc.net/event/engagement-and-policy-working-group-meeting/
CATEGORIES:Members
END:VEVENT
END:VCALENDAR