BEGIN:VCALENDAR
VERSION:2.0
PRODID:-//AIGCC - ECPv5.12.2//NONSGML v1.0//EN
CALSCALE:GREGORIAN
METHOD:PUBLISH
X-WR-CALNAME:AIGCC
X-ORIGINAL-URL:https://www.aigcc.net
X-WR-CALDESC:Events for AIGCC
REFRESH-INTERVAL;VALUE=DURATION:PT1H
X-Robots-Tag:noindex
X-PUBLISHED-TTL:PT1H
BEGIN:VTIMEZONE
TZID:Asia/Hong_Kong
BEGIN:STANDARD
TZOFFSETFROM:+0800
TZOFFSETTO:+0800
TZNAME:HKT
DTSTART:20220101T000000
END:STANDARD
END:VTIMEZONE
BEGIN:VEVENT
DTSTART;TZID=Asia/Hong_Kong:20220303T160000
DTEND;TZID=Asia/Hong_Kong:20220303T173000
DTSTAMP:20220425T080210
CREATED:20220124T110037Z
LAST-MODIFIED:20220124T110037Z
UID:5313-1646323200-1646328600@www.aigcc.net
SUMMARY:Climate Action 100+ Asia 2022 Q1 Call [For Climate Action 100+ signatories only]
DESCRIPTION:
URL:https://www.aigcc.net/event/climate-action-100-asia-2022-q1-call-for-climate-action-100-signatories-only/
CATEGORIES:Members
END:VEVENT
END:VCALENDAR