BEGIN:VCALENDAR
VERSION:2.0
PRODID:-//AIGCC - ECPv5.12.2//NONSGML v1.0//EN
CALSCALE:GREGORIAN
METHOD:PUBLISH
X-WR-CALNAME:AIGCC
X-ORIGINAL-URL:https://www.aigcc.net
X-WR-CALDESC:Events for AIGCC
REFRESH-INTERVAL;VALUE=DURATION:PT1H
X-Robots-Tag:noindex
X-PUBLISHED-TTL:PT1H
BEGIN:VTIMEZONE
TZID:Asia/Shanghai
BEGIN:STANDARD
TZOFFSETFROM:+0800
TZOFFSETTO:+0800
TZNAME:CST
DTSTART:20200101T000000
END:STANDARD
TZID:Australia/Sydney
BEGIN:STANDARD
TZOFFSETFROM:+1100
TZOFFSETTO:+1000
TZNAME:AEST
DTSTART:20200404T160000
END:STANDARD
BEGIN:DAYLIGHT
TZOFFSETFROM:+1000
TZOFFSETTO:+1100
TZNAME:AEDT
DTSTART:20201003T160000
END:DAYLIGHT
END:VTIMEZONE
BEGIN:VEVENT
DTSTART;TZID=Asia/Shanghai:20200624T160000
DTEND;TZID=Asia/Shanghai:20200624T171500
DTSTAMP:20220425T075318
CREATED:20200617T174650Z
LAST-MODIFIED:20200617T174650Z
UID:3508-1593014400-1593018900@www.aigcc.net
SUMMARY:External: Ecosperity Conversations-Sustainable Districts for a Sustainable City | Wednesday 24 June
DESCRIPTION:Adapting to disruptions caused by climate\, social and technological change requires a fresh approach to urban planning and urban innovation. There are many opportunities to improve the liveability\, sustainability and resiliency of our cities through the way we plan our urban environment\, and many strategies have been studied and deployed to optimise urban systems and solutions. However\, implementing these solutions within existing townships and sites can be challenging for numerous reasons. \nJoin the webinar on 24 June 2020 (Wednesday)\, at 4pm (GMT+8) to learn and discuss how district-level projects can be used as a testbed for solutions before scaling up. \nRegister here
URL:https://www.aigcc.net/event/ecosperity-conversations-sustainable-districts-for-a-sustainable-city-wednesday-24-june/
CATEGORIES:All Events
END:VEVENT
BEGIN:VEVENT
DTSTART;TZID=Australia/Sydney:20200526T170000
DTEND;TZID=Australia/Sydney:20200526T180000
DTSTAMP:20220425T075318
CREATED:20200504T163316Z
LAST-MODIFIED:20200504T163316Z
UID:3338-1590512400-1590516000@www.aigcc.net
SUMMARY:AIGCC Member Meeting
DESCRIPTION:For the May AIGCC Member Meeting\, we will be joined by speakers from Japan’s regulatory institutions to discuss the latest developments on TCFD scenario risk guidance\, stewardship code ESG standards and transition finance principles. \nIf you are not a member\, but would like to join as a guest\, please get in touch. 
URL:https://www.aigcc.net/event/aigcc-member-meeting/
CATEGORIES:All Events
ATTACH;FMTTYPE=:
END:VEVENT
END:VCALENDAR