BEGIN:VCALENDAR
VERSION:2.0
PRODID:-//AIGCC - ECPv5.12.2//NONSGML v1.0//EN
CALSCALE:GREGORIAN
METHOD:PUBLISH
X-WR-CALNAME:AIGCC
X-ORIGINAL-URL:https://www.aigcc.net
X-WR-CALDESC:Events for AIGCC
REFRESH-INTERVAL;VALUE=DURATION:PT1H
X-Robots-Tag:noindex
X-PUBLISHED-TTL:PT1H
BEGIN:VTIMEZONE
TZID:Asia/Hong_Kong
BEGIN:STANDARD
TZOFFSETFROM:+0800
TZOFFSETTO:+0800
TZNAME:HKT
DTSTART:20210101T000000
END:STANDARD
END:VTIMEZONE
BEGIN:VEVENT
DTSTART;TZID=Asia/Hong_Kong:20211210T083000
DTEND;TZID=Asia/Hong_Kong:20211210T120000
DTSTAMP:20220425T102805
CREATED:20211019T050326Z
LAST-MODIFIED:20211118T064057Z
UID:4935-1639125000-1639137600@www.aigcc.net
SUMMARY:AIGCC Investor Practice Masterclass First Session: Developing a climate policy and action plan
DESCRIPTION:First Session: Developing a climate policy and action plan ​\nDate and Time: Friday\, 10th December 2021 8:30 am – 12:00 pm HKT/SGT​ \nAIGCC is delighted to invite members to join our Investor Practice Masterclasses. Facilitated by Regnan\, the first masterclass will help participants build an understanding of the core building blocks and practical pathways for developing and implementing a Climate Change Policy and Climate Action Plan best suited to the context of individual investor organizations. The ICAPS framework will be a guide for this session.​ \nSecond Session: TCFD Disclosures (details TBC)​\nDate and Time: Thursday\, 10th February 2022 8:30 am – 12:00 pm HKT/SGT​ \nThird Session: Corporate Engagement (details TBC)​\nDate and Time: Monday\, 28th March 2022 8:30 am – 12:00 pm HKT/SGT​ \n​ \nAll sessions will be conducted via Zoom. For AIGCC members ONLY. ​
URL:https://www.aigcc.net/event/aigcc-practitioner-masterclass-thursday-9th%e2%80%afdecember/
CATEGORIES:All Events
END:VEVENT
END:VCALENDAR